BEGIN:VCALENDAR
VERSION:2.0
PRODID:-//hacksw/handcal//NONSGML v1.0//EN
CALSCALE:GREGORIAN
BEGIN:VEVENT
DTSTART:20260224T190000Z
DTEND:20260224T200000Z
UID:133105-opensimworld.com
DTSTAMP:20260422T022548Z
LOCATION:hg.osgrid.org:80:Club Exile
URL;VALUE=URI: http://opensimworld.com/event/133105
SUMMARY:BI  WEEKLY     new     kennies  stew      wild wil sound in the  club exile  starts  11 am slt  20,00 europe 
END:VEVENT
END:VCALENDAR