BEGIN:VCALENDAR
VERSION:2.0
PRODID:-//hacksw/handcal//NONSGML v1.0//EN
CALSCALE:GREGORIAN
BEGIN:VEVENT
DTSTART:20260219T190000Z
DTEND:20260219T200000Z
UID:132890-opensimworld.com
DTSTAMP:20260422T022547Z
LOCATION:hg.osgrid.org:80:Club Exile
URL;VALUE=URI: http://opensimworld.com/event/132890
SUMMARY: KENNIES  STEW        TODAYS MENUE   TECHNO  MEETS  ROCK N ROLL  
END:VEVENT
END:VCALENDAR