BEGIN:VCALENDAR
VERSION:2.0
PRODID:-//hacksw/handcal//NONSGML v1.0//EN
CALSCALE:GREGORIAN
BEGIN:VEVENT
DTSTART:20260212T210000Z
DTEND:20260212T220000Z
UID:132690-opensimworld.com
DTSTAMP:20260422T022546Z
LOCATION:hg.osgrid.org:80:Club Exile
URL;VALUE=URI: http://opensimworld.com/event/132690
SUMMARY: start  11  am slt    end  open     at  club exile  the menue  for today  :  kennies stew  
END:VEVENT
END:VCALENDAR