BEGIN:VCALENDAR
VERSION:2.0
PRODID:-//hacksw/handcal//NONSGML v1.0//EN
CALSCALE:GREGORIAN
BEGIN:VEVENT
DTSTART:20260201T190000Z
DTEND:20260201T200000Z
UID:132218-opensimworld.com
DTSTAMP:20260424T033111Z
LOCATION:hg.zetaworlds.com:80:SiLi
URL;VALUE=URI: http://opensimworld.com/event/132218
SUMMARY:RUSSELL EPONYM at Hui O Wahine Kapu (Place of the Sacred Women) @ SiLi in ZetaWorlds
END:VEVENT
END:VCALENDAR