BEGIN:VCALENDAR
VERSION:2.0
PRODID:-//hacksw/handcal//NONSGML v1.0//EN
CALSCALE:GREGORIAN
BEGIN:VEVENT
DTSTART:20260301T010000Z
DTEND:20260301T020000Z
UID:132171-opensimworld.com
DTSTAMP:20260421T224330Z
LOCATION:zodiack.net:8002:Laredo
URL;VALUE=URI: http://opensimworld.com/event/132171
SUMMARY:Steven Strikker, Singing Live at Hooligans
END:VEVENT
END:VCALENDAR