BEGIN:VCALENDAR
VERSION:2.0
PRODID:-//hacksw/handcal//NONSGML v1.0//EN
CALSCALE:GREGORIAN
BEGIN:VEVENT
DTSTART:20260202T230000Z
DTEND:20260203T000000Z
UID:132164-opensimworld.com
DTSTAMP:20260421T224329Z
LOCATION:zodiack.net:8002:Laredo
URL;VALUE=URI: http://opensimworld.com/event/132164
SUMMARY:Dallas Winslet, Singing Live at Hooligans
END:VEVENT
END:VCALENDAR