BEGIN:VCALENDAR
VERSION:2.0
PRODID:-//hacksw/handcal//NONSGML v1.0//EN
CALSCALE:GREGORIAN
BEGIN:VEVENT
DTSTART:20260209T220000Z
DTEND:20260209T230000Z
UID:132160-opensimworld.com
DTSTAMP:20260421T224330Z
LOCATION:zodiack.net:8002:Laredo
URL;VALUE=URI: http://opensimworld.com/event/132160
SUMMARY:MrMikie String, Singing Live at Hooligans
END:VEVENT
END:VCALENDAR