BEGIN:VCALENDAR
VERSION:2.0
PRODID:-//hacksw/handcal//NONSGML v1.0//EN
CALSCALE:GREGORIAN
BEGIN:VEVENT
DTSTART:20260128T180000Z
DTEND:20260128T190000Z
UID:132092-opensimworld.com
DTSTAMP:20260424T035351Z
LOCATION:gbg-world.com:8002:La Isla Bonita
URL;VALUE=URI: http://opensimworld.com/event/132092
SUMMARY:10am DJ Sasha & DJ Castiel AT THE  PIER NIGHT CLUB GBG WORLD
END:VEVENT
END:VCALENDAR