BEGIN:VCALENDAR
VERSION:2.0
PRODID:-//hacksw/handcal//NONSGML v1.0//EN
CALSCALE:GREGORIAN
BEGIN:VEVENT
DTSTART:20260123T180000Z
DTEND:20260123T190000Z
UID:131894-opensimworld.com
DTSTAMP:20260424T035349Z
LOCATION:gbg-world.com:8002:La Isla Bonita
URL;VALUE=URI: http://opensimworld.com/event/131894
SUMMARY:10am DJ CRAZY & DJ NICK AT THE PIER GBG METAVERSE
END:VEVENT
END:VCALENDAR