BEGIN:VCALENDAR
VERSION:2.0
PRODID:-//hacksw/handcal//NONSGML v1.0//EN
CALSCALE:GREGORIAN
BEGIN:VEVENT
DTSTART:20260122T030000Z
DTEND:20260122T040000Z
UID:131821-opensimworld.com
DTSTAMP:20260424T035348Z
LOCATION:gbg-world.com:8002:La Isla Bonita
URL;VALUE=URI: http://opensimworld.com/event/131821
SUMMARY:10am DJ Sasha & DJ CASTIEL AT THE  PIER NIGHT CLUB GBG WORLD LIVE SINGERS
END:VEVENT
END:VCALENDAR