BEGIN:VCALENDAR
VERSION:2.0
PRODID:-//hacksw/handcal//NONSGML v1.0//EN
CALSCALE:GREGORIAN
BEGIN:VEVENT
DTSTART:20260116T200000Z
DTEND:20260116T210000Z
UID:131612-opensimworld.com
DTSTAMP:20260424T035350Z
LOCATION:gbg-world.com:8002:La Isla Bonita
URL;VALUE=URI: http://opensimworld.com/event/131612
SUMMARY:DJ CRAZY & DJ NICK AT THE PIER GBG METAVERSE
END:VEVENT
END:VCALENDAR