BEGIN:VCALENDAR
VERSION:2.0
PRODID:-//hacksw/handcal//NONSGML v1.0//EN
CALSCALE:GREGORIAN
BEGIN:VEVENT
DTSTART:20260109T190000Z
DTEND:20260109T200000Z
UID:131367-opensimworld.com
DTSTAMP:20260424T035350Z
LOCATION:gbg-world.com:8002:La Isla Bonita
URL;VALUE=URI: http://opensimworld.com/event/131367
SUMMARY:DJ NICK AT THE PIER GBG METAVERSE, 5 YEARS REZDAY MARJA HAVEN 
END:VEVENT
END:VCALENDAR