BEGIN:VCALENDAR
VERSION:2.0
PRODID:-//hacksw/handcal//NONSGML v1.0//EN
CALSCALE:GREGORIAN
BEGIN:VEVENT
DTSTART:20260104T190000Z
DTEND:20260104T200000Z
UID:131083-opensimworld.com
DTSTAMP:20260424T033112Z
LOCATION:hg.zetaworlds.com:80:SiLi
URL;VALUE=URI: http://opensimworld.com/event/131083
SUMMARY:Russell Eponym concert at SiLi\'s Tientan (Temple of Heaven)
END:VEVENT
END:VCALENDAR