BEGIN:VCALENDAR
VERSION:2.0
PRODID:-//hacksw/handcal//NONSGML v1.0//EN
CALSCALE:GREGORIAN
BEGIN:VEVENT
DTSTART:20260101T023000Z
DTEND:20260101T033000Z
UID:130989-opensimworld.com
DTSTAMP:20260425T131858Z
LOCATION:hg.carnivalegrid.com:8002:Magicland
URL;VALUE=URI: http://opensimworld.com/event/130989
SUMMARY:FREE MOVIE: Back to the Future II
END:VEVENT
END:VCALENDAR