BEGIN:VCALENDAR
VERSION:2.0
PRODID:-//hacksw/handcal//NONSGML v1.0//EN
CALSCALE:GREGORIAN
BEGIN:VEVENT
DTSTART:20260101T000000Z
DTEND:20260101T010000Z
UID:130988-opensimworld.com
DTSTAMP:20260425T131856Z
LOCATION:hg.carnivalegrid.com:8002:Magicland
URL;VALUE=URI: http://opensimworld.com/event/130988
SUMMARY:FREE MOVIE: Back to The Future!
END:VEVENT
END:VCALENDAR