BEGIN:VCALENDAR
VERSION:2.0
PRODID:-//hacksw/handcal//NONSGML v1.0//EN
CALSCALE:GREGORIAN
BEGIN:VEVENT
DTSTART:20260201T010000Z
DTEND:20260201T020000Z
UID:130961-opensimworld.com
DTSTAMP:20260421T224328Z
LOCATION:zodiack.net:8002:Laredo
URL;VALUE=URI: http://opensimworld.com/event/130961
SUMMARY:Steven Strikker, Singing Live at Hooligans
END:VEVENT
END:VCALENDAR