BEGIN:VCALENDAR
VERSION:2.0
PRODID:-//hacksw/handcal//NONSGML v1.0//EN
CALSCALE:GREGORIAN
BEGIN:VEVENT
DTSTART:20260126T220000Z
DTEND:20260126T230000Z
UID:130956-opensimworld.com
DTSTAMP:20260421T224330Z
LOCATION:zodiack.net:8002:Laredo
URL;VALUE=URI: http://opensimworld.com/event/130956
SUMMARY:MrMikie String, Singing Live at Hooligans
END:VEVENT
END:VCALENDAR