BEGIN:VCALENDAR
VERSION:2.0
PRODID:-//hacksw/handcal//NONSGML v1.0//EN
CALSCALE:GREGORIAN
BEGIN:VEVENT
DTSTART:20260126T230000Z
DTEND:20260127T000000Z
UID:130952-opensimworld.com
DTSTAMP:20260421T224332Z
LOCATION:zodiack.net:8002:Laredo
URL;VALUE=URI: http://opensimworld.com/event/130952
SUMMARY:Dallas Winslet, Singing Live at Hooligans
END:VEVENT
END:VCALENDAR