BEGIN:VCALENDAR
VERSION:2.0
PRODID:-//hacksw/handcal//NONSGML v1.0//EN
CALSCALE:GREGORIAN
BEGIN:VEVENT
DTSTART:20251224T010000Z
DTEND:20251224T020000Z
UID:130703-opensimworld.com
DTSTAMP:20260422T032223Z
LOCATION:groovyverse.com:8002:Nor-Cal
URL;VALUE=URI: http://opensimworld.com/event/130703
SUMMARY:Donn Devore Groovy Christmas
END:VEVENT
END:VCALENDAR