BEGIN:VCALENDAR
VERSION:2.0
PRODID:-//hacksw/handcal//NONSGML v1.0//EN
CALSCALE:GREGORIAN
BEGIN:VEVENT
DTSTART:20251221T020000Z
DTEND:20251221T030000Z
UID:130619-opensimworld.com
DTSTAMP:20260424T000423Z
LOCATION:grid.wolfterritories.org:8002:The Pinky Toe
URL;VALUE=URI: http://opensimworld.com/event/130619
SUMMARY:Indigo Moon\'s Ice Skating Birthday Party! Let\'s go back to the 80s!
END:VEVENT
END:VCALENDAR