BEGIN:VCALENDAR
VERSION:2.0
PRODID:-//hacksw/handcal//NONSGML v1.0//EN
CALSCALE:GREGORIAN
BEGIN:VEVENT
DTSTART:20251129T020000Z
DTEND:20251129T030000Z
UID:129605-opensimworld.com
DTSTAMP:20260424T000424Z
LOCATION:grid.wolfterritories.org:8002:The Pinky Toe
URL;VALUE=URI: http://opensimworld.com/event/129605
SUMMARY:DISCO ROLLER PARTY! See ad for HOP!
END:VEVENT
END:VCALENDAR