BEGIN:VCALENDAR
VERSION:2.0
PRODID:-//hacksw/handcal//NONSGML v1.0//EN
CALSCALE:GREGORIAN
BEGIN:VEVENT
DTSTART:20241024T170000Z
DTEND:20241024T180000Z
UID:128031-opensimworld.com
DTSTAMP:20260424T135213Z
LOCATION:grid.opensimfest.com:8022:OSF_N_Expo
URL;VALUE=URI: http://opensimworld.com/event/128031
SUMMARY:Twin Palms Drive-In Double Feature
END:VEVENT
END:VCALENDAR