BEGIN:VCALENDAR
VERSION:2.0
PRODID:-//hacksw/handcal//NONSGML v1.0//EN
CALSCALE:GREGORIAN
BEGIN:VEVENT
DTSTART:20251022T170000Z
DTEND:20251022T180000Z
UID:128021-opensimworld.com
DTSTAMP:20260424T135211Z
LOCATION:grid.opensimfest.com:8022:OSF_N_Expo
URL;VALUE=URI: http://opensimworld.com/event/128021
SUMMARY:OSFEST Twin Palms Drive-In Double Feature
END:VEVENT
END:VCALENDAR