BEGIN:VCALENDAR
VERSION:2.0
PRODID:-//hacksw/handcal//NONSGML v1.0//EN
CALSCALE:GREGORIAN
BEGIN:VEVENT
DTSTART:20251021T210000Z
DTEND:20251021T220000Z
UID:128018-opensimworld.com
DTSTAMP:20260424T174244Z
LOCATION:grid.opensimfest.com:8022:OSF_N_Expo
URL;VALUE=URI: http://opensimworld.com/event/128018
SUMMARY:OSFEST Twin Palms Drive-In Special Feature
END:VEVENT
END:VCALENDAR