BEGIN:VCALENDAR
VERSION:2.0
PRODID:-//hacksw/handcal//NONSGML v1.0//EN
CALSCALE:GREGORIAN
BEGIN:VEVENT
DTSTART:20251028T200000Z
DTEND:20251028T210000Z
UID:127961-opensimworld.com
DTSTAMP:20260424T085519Z
LOCATION:astralia.eu:8002:Persiana
URL;VALUE=URI: http://opensimworld.com/event/127961
SUMMARY:Halloween Party
END:VEVENT
END:VCALENDAR