BEGIN:VCALENDAR
VERSION:2.0
PRODID:-//hacksw/handcal//NONSGML v1.0//EN
CALSCALE:GREGORIAN
BEGIN:VEVENT
DTSTART:20251014T200000Z
DTEND:20251014T210000Z
UID:127664-opensimworld.com
DTSTAMP:20260424T174238Z
LOCATION:grid.opensimfest.com:8022:OSF_N_Expo
URL;VALUE=URI: http://opensimworld.com/event/127664
SUMMARY:Twin Palms Drive-In Double Feature - Prehistoric Women / Mesa of Lost Women
END:VEVENT
END:VCALENDAR