BEGIN:VCALENDAR
VERSION:2.0
PRODID:-//hacksw/handcal//NONSGML v1.0//EN
CALSCALE:GREGORIAN
BEGIN:VEVENT
DTSTART:20251030T074200Z
DTEND:20251030T084200Z
UID:127240-opensimworld.com
DTSTAMP:20260424T060029Z
LOCATION:grid.myvirtualbeach.com:8002:University of BDSM
URL;VALUE=URI: http://opensimworld.com/event/127240
SUMMARY:Meet and Greet
END:VEVENT
END:VCALENDAR