BEGIN:VCALENDAR
VERSION:2.0
PRODID:-//hacksw/handcal//NONSGML v1.0//EN
CALSCALE:GREGORIAN
BEGIN:VEVENT
DTSTART:20251023T074100Z
DTEND:20251023T084100Z
UID:127239-opensimworld.com
DTSTAMP:20260424T060029Z
LOCATION:grid.myvirtualbeach.com:8002:University of BDSM
URL;VALUE=URI: http://opensimworld.com/event/127239
SUMMARY:Meet and Greet
END:VEVENT
END:VCALENDAR