BEGIN:VCALENDAR
VERSION:2.0
PRODID:-//hacksw/handcal//NONSGML v1.0//EN
CALSCALE:GREGORIAN
BEGIN:VEVENT
DTSTART:20251005T180000Z
DTEND:20251005T190000Z
UID:127229-opensimworld.com
DTSTAMP:20260424T033125Z
LOCATION:hg.zetaworlds.com:80:SiLi
URL;VALUE=URI: http://opensimworld.com/event/127229
SUMMARY:Russell Eponym concert at Hui O\' Menehune
END:VEVENT
END:VCALENDAR