BEGIN:VCALENDAR
VERSION:2.0
PRODID:-//hacksw/handcal//NONSGML v1.0//EN
CALSCALE:GREGORIAN
BEGIN:VEVENT
DTSTART:20250930T183000Z
DTEND:20250930T193000Z
UID:127013-opensimworld.com
DTSTAMP:20260422T154309Z
LOCATION:bloodmoonpack.com:8002:Event Beach Club
URL;VALUE=URI: http://opensimworld.com/event/127013
SUMMARY:BACHATA & COUNTRY PARTY
END:VEVENT
END:VCALENDAR