BEGIN:VCALENDAR
VERSION:2.0
PRODID:-//hacksw/handcal//NONSGML v1.0//EN
CALSCALE:GREGORIAN
BEGIN:VEVENT
DTSTART:20250915T185900Z
DTEND:20250915T195900Z
UID:126532-opensimworld.com
DTSTAMP:20260424T130649Z
LOCATION:dark-heaven.eu:8002:GOLDENROCK
URL;VALUE=URI: http://opensimworld.com/event/126532
SUMMARY:ANOTHER   POP UP  EVENT   start noon   slt   2100  cet     with Kenneth  Mac Shane   spinning   our  good  old  mixed  tapes!!!!!!   open  end  party  !!!!
END:VEVENT
END:VCALENDAR