BEGIN:VCALENDAR
VERSION:2.0
PRODID:-//hacksw/handcal//NONSGML v1.0//EN
CALSCALE:GREGORIAN
BEGIN:VEVENT
DTSTART:20250907T080000Z
DTEND:20250907T090000Z
UID:126219-opensimworld.com
DTSTAMP:20260423T055708Z
LOCATION:alternatemetaverse.com:8002:Skinny Dip Beach
URL;VALUE=URI: http://opensimworld.com/event/126219
SUMMARY:Skinny Dip Beach Party & DJ YANA
END:VEVENT
END:VCALENDAR