BEGIN:VCALENDAR
VERSION:2.0
PRODID:-//hacksw/handcal//NONSGML v1.0//EN
CALSCALE:GREGORIAN
BEGIN:VEVENT
DTSTART:20251028T010000Z
DTEND:20251028T020000Z
UID:126217-opensimworld.com
DTSTAMP:20260423T055708Z
LOCATION:wyldwoodbayou.com:8002:Wyldwood Bayou Hot Daddys
URL;VALUE=URI: http://opensimworld.com/event/126217
SUMMARY:Wyldwood Bayou\'s 5th Anniversary DJ Kith’s Monster Mash for Hot Daddy\'s 6-8PM!
END:VEVENT
END:VCALENDAR