BEGIN:VCALENDAR
VERSION:2.0
PRODID:-//hacksw/handcal//NONSGML v1.0//EN
CALSCALE:GREGORIAN
BEGIN:VEVENT
DTSTART:20250907T180000Z
DTEND:20250907T190000Z
UID:126182-opensimworld.com
DTSTAMP:20260424T033118Z
LOCATION:hg.zetaworlds.com:80:SiLi
URL;VALUE=URI: http://opensimworld.com/event/126182
SUMMARY:Russell concert at the Dragon King Temple in SiLi
END:VEVENT
END:VCALENDAR