BEGIN:VCALENDAR
VERSION:2.0
PRODID:-//hacksw/handcal//NONSGML v1.0//EN
CALSCALE:GREGORIAN
BEGIN:VEVENT
DTSTART:20250901T223000Z
DTEND:20250901T233000Z
UID:126032-opensimworld.com
DTSTAMP:20260424T174232Z
LOCATION:littlebigcity.outworldz.net:8002:LBC Club
URL;VALUE=URI: http://opensimworld.com/event/126032
SUMMARY:Rezz Day Party !!!
END:VEVENT
END:VCALENDAR