BEGIN:VCALENDAR
VERSION:2.0
PRODID:-//hacksw/handcal//NONSGML v1.0//EN
CALSCALE:GREGORIAN
BEGIN:VEVENT
DTSTART:20250930T010000Z
DTEND:20250930T020000Z
UID:125858-opensimworld.com
DTSTAMP:20260423T055705Z
LOCATION:wyldwoodbayou.com:8002:Wyldwood Bayou Hot Daddys
URL;VALUE=URI: http://opensimworld.com/event/125858
SUMMARY:DJ Kith Spins Rock of All Ages Tonight at Hot Daddy’s 6-8PM!
END:VEVENT
END:VCALENDAR