BEGIN:VCALENDAR
VERSION:2.0
PRODID:-//hacksw/handcal//NONSGML v1.0//EN
CALSCALE:GREGORIAN
BEGIN:VEVENT
DTSTART:20250825T210000Z
DTEND:20250825T220000Z
UID:125800-opensimworld.com
DTSTAMP:20260424T130647Z
LOCATION:dark-heaven.eu:8002:GOLDENROCK
URL;VALUE=URI: http://opensimworld.com/event/125800
SUMMARY:kenneth macshane    spinning     his  fav  music  genre  cet 1400slt
END:VEVENT
END:VCALENDAR