BEGIN:VCALENDAR
VERSION:2.0
PRODID:-//hacksw/handcal//NONSGML v1.0//EN
CALSCALE:GREGORIAN
BEGIN:VEVENT
DTSTART:20250825T080000Z
DTEND:20250825T090000Z
UID:125790-opensimworld.com
DTSTAMP:20260424T130647Z
LOCATION:dark-heaven.eu:8002:GOLDENROCK
URL;VALUE=URI: http://opensimworld.com/event/125790
SUMMARY:Goldenrock  presents MONDAY  MADNESS  11:00am  slt 20,00  CET   DJ  KENNETH  MCSHANE  LIVE ON AIR       HOLIDAY           OPENEND  PARTY
END:VEVENT
END:VCALENDAR