BEGIN:VCALENDAR
VERSION:2.0
PRODID:-//hacksw/handcal//NONSGML v1.0//EN
CALSCALE:GREGORIAN
BEGIN:VEVENT
DTSTART:20250825T185900Z
DTEND:20250825T195900Z
UID:125789-opensimworld.com
DTSTAMP:20260424T130648Z
LOCATION:dark-heaven.eu:8002:GOLDENROCK
URL;VALUE=URI: http://opensimworld.com/event/125789
SUMMARY:Goldenrock  presents MONDAY  MADNESS  11:00am  slt 20,00  CET   DJ  KENNETH  MCSHANE  LIVE ON AIR            OPEN-END - PARTY
END:VEVENT
END:VCALENDAR