BEGIN:VCALENDAR
VERSION:2.0
PRODID:-//hacksw/handcal//NONSGML v1.0//EN
CALSCALE:GREGORIAN
BEGIN:VEVENT
DTSTART:20250818T195900Z
DTEND:20250818T205900Z
UID:125468-opensimworld.com
DTSTAMP:20260424T130647Z
LOCATION:dark-heaven.eu:8002:GOLDENROCK
URL;VALUE=URI: http://opensimworld.com/event/125468
SUMMARY:13,00 slt  22,00 cet  kenny    goes   clubbing 
END:VEVENT
END:VCALENDAR