BEGIN:VCALENDAR
VERSION:2.0
PRODID:-//hacksw/handcal//NONSGML v1.0//EN
CALSCALE:GREGORIAN
BEGIN:VEVENT
DTSTART:20250826T010000Z
DTEND:20250826T020000Z
UID:125243-opensimworld.com
DTSTAMP:20260423T055714Z
LOCATION:wyldwoodbayou.com:8002:Wyldwood Bayou Hot Daddys
URL;VALUE=URI: http://opensimworld.com/event/125243
SUMMARY:Hot Daddy\'s for August 25 is Canceled, See You in September!
END:VEVENT
END:VCALENDAR