BEGIN:VCALENDAR
VERSION:2.0
PRODID:-//hacksw/handcal//NONSGML v1.0//EN
CALSCALE:GREGORIAN
BEGIN:VEVENT
DTSTART:20250811T195900Z
DTEND:20250811T205900Z
UID:125212-opensimworld.com
DTSTAMP:20260424T130648Z
LOCATION:dark-heaven.eu:8002:GOLDENROCK
URL;VALUE=URI: http://opensimworld.com/event/125212
SUMMARY:Goldenrock  presents MONDAY  MADNESS  11:00am  slt 20,00  CET   DJ  KENNETH  MCSHANE  LIVE ON AIR            OPEN-END - PARTY
END:VEVENT
END:VCALENDAR