BEGIN:VCALENDAR
VERSION:2.0
PRODID:-//hacksw/handcal//NONSGML v1.0//EN
CALSCALE:GREGORIAN
BEGIN:VEVENT
DTSTART:20250804T010000Z
DTEND:20250804T020000Z
UID:124940-opensimworld.com
DTSTAMP:20260425T131857Z
LOCATION:hg.carnivalegrid.com:8002:Magicland
URL;VALUE=URI: http://opensimworld.com/event/124940
SUMMARY:FREE MOVIE: Harry Potter and the Chamber of Secrets
END:VEVENT
END:VCALENDAR