BEGIN:VCALENDAR
VERSION:2.0
PRODID:-//hacksw/handcal//NONSGML v1.0//EN
CALSCALE:GREGORIAN
BEGIN:VEVENT
DTSTART:20250728T195900Z
DTEND:20250728T205900Z
UID:124587-opensimworld.com
DTSTAMP:20260424T130650Z
LOCATION:dark-heaven.eu:8002:GOLDENROCK
URL;VALUE=URI: http://opensimworld.com/event/124587
SUMMARY:Goldenrock  presents MONDAY  MADNESS  12:00am  slt 21,00  CET   DJ  KENNETH  MCSHANE  LIVE ON AIR       HOLIDAY           OPENEND  PARTY
END:VEVENT
END:VCALENDAR