BEGIN:VCALENDAR
VERSION:2.0
PRODID:-//hacksw/handcal//NONSGML v1.0//EN
CALSCALE:GREGORIAN
BEGIN:VEVENT
DTSTART:20250728T013000Z
DTEND:20250728T023000Z
UID:124580-opensimworld.com
DTSTAMP:20260425T131858Z
LOCATION:hg.carnivalegrid.com:8002:Magicland
URL;VALUE=URI: http://opensimworld.com/event/124580
SUMMARY:FREE MOVIE: Ralph Breaks the Internet
END:VEVENT
END:VCALENDAR