BEGIN:VCALENDAR
VERSION:2.0
PRODID:-//hacksw/handcal//NONSGML v1.0//EN
CALSCALE:GREGORIAN
BEGIN:VEVENT
DTSTART:20250727T230000Z
DTEND:20250728T000000Z
UID:124579-opensimworld.com
DTSTAMP:20260425T131858Z
LOCATION:hg.carnivalegrid.com:8002:Magicland
URL;VALUE=URI: http://opensimworld.com/event/124579
SUMMARY:FREE MOVIE: Disney\'s Descendants 2
END:VEVENT
END:VCALENDAR