BEGIN:VCALENDAR
VERSION:2.0
PRODID:-//hacksw/handcal//NONSGML v1.0//EN
CALSCALE:GREGORIAN
BEGIN:VEVENT
DTSTART:20250723T190000Z
DTEND:20250723T200000Z
UID:124401-opensimworld.com
DTSTAMP:20260424T130650Z
LOCATION:dark-heaven.eu:8002:GOLDENROCK
URL;VALUE=URI: http://opensimworld.com/event/124401
SUMMARY:RIP   OZZY          tribute to   the prince of  darkness   start    1100     20,00  cet  
END:VEVENT
END:VCALENDAR