BEGIN:VCALENDAR
VERSION:2.0
PRODID:-//hacksw/handcal//NONSGML v1.0//EN
CALSCALE:GREGORIAN
BEGIN:VEVENT
DTSTART:20250723T175900Z
DTEND:20250723T185900Z
UID:124400-opensimworld.com
DTSTAMP:20260424T130647Z
LOCATION:dark-heaven.eu:8002:GOLDENROCK
URL;VALUE=URI: http://opensimworld.com/event/124400
SUMMARY:RIP   OZZY  WE  WILL  NEVER  FORGET  YOU   kenny  spins   ozzy     start   11 am  slt  20.00  cet at  GOLDEN ROCK  
END:VEVENT
END:VCALENDAR