BEGIN:VCALENDAR
VERSION:2.0
PRODID:-//hacksw/handcal//NONSGML v1.0//EN
CALSCALE:GREGORIAN
BEGIN:VEVENT
DTSTART:20250721T195900Z
DTEND:20250721T205900Z
UID:124370-opensimworld.com
DTSTAMP:20260424T130647Z
LOCATION:dark-heaven.eu:8002:GOLDENROCK
URL;VALUE=URI: http://opensimworld.com/event/124370
SUMMARY:tonite 20.00 cet 13 00 slt KENNY  GOES WILD  AT  GOLDEN ROCK 
END:VEVENT
END:VCALENDAR