BEGIN:VCALENDAR
VERSION:2.0
PRODID:-//hacksw/handcal//NONSGML v1.0//EN
CALSCALE:GREGORIAN
BEGIN:VEVENT
DTSTART:20250721T185900Z
DTEND:20250721T195900Z
UID:124369-opensimworld.com
DTSTAMP:20260424T024746Z
LOCATION:dark-heaven.eu:8002:GOLDENROCK
URL;VALUE=URI: http://opensimworld.com/event/124369
SUMMARY: 20.00 cet noon slt KENNY  GOES  WILD  PARTY  AT  GOLDENROCK 
END:VEVENT
END:VCALENDAR